BEGIN:VCALENDAR
VERSION:2.0
PRODID:-//gerardencompagnie.nl - ECPv6.15.20//NONSGML v1.0//EN
CALSCALE:GREGORIAN
METHOD:PUBLISH
X-WR-CALNAME:gerardencompagnie.nl
X-ORIGINAL-URL:https://gerardencompagnie.nl
X-WR-CALDESC:Evenementen voor gerardencompagnie.nl
REFRESH-INTERVAL;VALUE=DURATION:PT1H
X-Robots-Tag:noindex
X-PUBLISHED-TTL:PT1H
BEGIN:VTIMEZONE
TZID:Europe/Paris
BEGIN:DAYLIGHT
TZOFFSETFROM:+0100
TZOFFSETTO:+0200
TZNAME:CEST
DTSTART:20200329T010000
END:DAYLIGHT
BEGIN:STANDARD
TZOFFSETFROM:+0200
TZOFFSETTO:+0100
TZNAME:CET
DTSTART:20201025T010000
END:STANDARD
BEGIN:DAYLIGHT
TZOFFSETFROM:+0100
TZOFFSETTO:+0200
TZNAME:CEST
DTSTART:20210328T010000
END:DAYLIGHT
BEGIN:STANDARD
TZOFFSETFROM:+0200
TZOFFSETTO:+0100
TZNAME:CET
DTSTART:20211031T010000
END:STANDARD
BEGIN:DAYLIGHT
TZOFFSETFROM:+0100
TZOFFSETTO:+0200
TZNAME:CEST
DTSTART:20220327T010000
END:DAYLIGHT
BEGIN:STANDARD
TZOFFSETFROM:+0200
TZOFFSETTO:+0100
TZNAME:CET
DTSTART:20221030T010000
END:STANDARD
END:VTIMEZONE
BEGIN:VEVENT
DTSTART;TZID=Europe/Paris:20211024T150000
DTEND;TZID=Europe/Paris:20211024T150000
DTSTAMP:20260422T035906
CREATED:20210913T203511Z
LAST-MODIFIED:20210913T203511Z
UID:1788-1635087600-1635087600@gerardencompagnie.nl
SUMMARY:Optreden Andledon
DESCRIPTION:Andledon\, Den Andel\, zondag 24 oktober 15.00 uur (Gerard & Compagnie speelt nummers uit hun verschillende programma’s en een voorproefje uit de voorstelling ‘Emily\, onbekend voor de wereld’)
URL:https://gerardencompagnie.nl/kalender/optreden-andledon/
LOCATION:Cultuurerf Andledon\, Kruisweg 6\, Den Andel\, 9956 PK
ATTACH;FMTTYPE=image/jpeg:https://gerardencompagnie.nl/wp-content/uploads/2021/07/emily1.jpg
END:VEVENT
END:VCALENDAR